BEGIN:VCALENDAR
VERSION:2.0
PRODID:spatie/icalendar-generator
DESCRIPTION:Events from Grinders Pizza
X-WR-CALDESC:Events from Grinders Pizza
REFRESH-INTERVAL;VALUE=DURATION:PT1440M
X-PUBLISHED-TTL:PT1440M
BEGIN:VTIMEZONE
TZID:America/Chicago
BEGIN:DAYLIGHT
DTSTART:20250309T020000Z
TZOFFSETFROM:-0600
TZOFFSETTO:-0500
END:DAYLIGHT
BEGIN:STANDARD
DTSTART:20251102T020000Z
TZOFFSETFROM:-0500
TZOFFSETTO:-0600
END:STANDARD
BEGIN:DAYLIGHT
DTSTART:20260308T020000Z
TZOFFSETFROM:-0600
TZOFFSETTO:-0500
END:DAYLIGHT
END:VTIMEZONE
BEGIN:VTIMEZONE
TZID:UTC
BEGIN:STANDARD
DTSTART:20250729T173300Z
TZOFFSETFROM:+0000
TZOFFSETTO:+0000
END:STANDARD
END:VTIMEZONE
BEGIN:VEVENT
UID:106-24
DTSTAMP:20260425T173300Z
SUMMARY:Music &amp;amp\; Mimosas
LOCATION:
ORGANIZER;CN=Nathan Slinkard:MAILTO:nathan@grinderspizza.com
DTSTART;TZID=America/Chicago;VALUE=DATE:20250913
DTEND;TZID=America/Chicago;VALUE=DATE:20250914
X-ALT-DESC;FMTTYPE=TEXT/HTML:Enjoy live music &amp;amp\; mimosas on the Patio! 
 Summer is winding down\, so come enjoy the sun while watching local live m
 usic and delicious mimosas.
CATEGORIES:Grinders XRDS Pizza
URL;VALUE=URI:https://grinderspizza.com/mc-events/music-mimosas/
METHOD:PUBLISH
END:VEVENT
END:VCALENDAR