BEGIN:VCALENDAR
VERSION:2.0
PRODID:spatie/icalendar-generator
DESCRIPTION:Events from Grinders Pizza
X-WR-CALDESC:Events from Grinders Pizza
REFRESH-INTERVAL;VALUE=DURATION:PT1440M
X-PUBLISHED-TTL:PT1440M
BEGIN:VTIMEZONE
TZID:America/Chicago
BEGIN:DAYLIGHT
DTSTART:20250309T020000Z
TZOFFSETFROM:-0600
TZOFFSETTO:-0500
END:DAYLIGHT
BEGIN:STANDARD
DTSTART:20251102T020000Z
TZOFFSETFROM:-0500
TZOFFSETTO:-0600
END:STANDARD
BEGIN:DAYLIGHT
DTSTART:20260308T020000Z
TZOFFSETFROM:-0600
TZOFFSETTO:-0500
END:DAYLIGHT
END:VTIMEZONE
BEGIN:VTIMEZONE
TZID:UTC
BEGIN:STANDARD
DTSTART:20250729T141417Z
TZOFFSETFROM:+0000
TZOFFSETTO:+0000
END:STANDARD
END:VTIMEZONE
BEGIN:VEVENT
UID:110-26
DTSTAMP:20260425T141417Z
SUMMARY:Pumpkin Painting Party on the Patio
LOCATION:GRINDERS STONEWALL 10240 Pflumm Rd  Lenexa KS 66215
ORGANIZER;CN=Nathan Slinkard:MAILTO:nathan@grinderspizza.com
DTSTART;TZID=America/Chicago:20251018T110000
DTEND;TZID=America/Chicago:20251018T160000
X-ALT-DESC;FMTTYPE=TEXT/HTML:It wouldn't be October without pumpkin decorat
 ing! Join us on Saturday 10/18 from 11am-4pm for a Pumpkin Painting Party 
 on our patio. All supplies provided\, just bring the creativity! Fall weat
 her\, pumpkin\, Grinders food &amp;amp\; cocktails... it's what autumn is all 
 about! Free event All-ages 11am-4pm
CATEGORIES:Grinders Stonewall Pizza
URL;VALUE=URI:https://grinderspizza.com/mc-events/pumpkin-painting-party-on
 -the-patio/
METHOD:PUBLISH
END:VEVENT
END:VCALENDAR