BEGIN:VCALENDAR
VERSION:2.0
PRODID:spatie/icalendar-generator
DESCRIPTION:Events from Grinders Pizza
X-WR-CALDESC:Events from Grinders Pizza
REFRESH-INTERVAL;VALUE=DURATION:PT1440M
X-PUBLISHED-TTL:PT1440M
BEGIN:VTIMEZONE
TZID:America/Chicago
BEGIN:DAYLIGHT
DTSTART:20250309T020000Z
TZOFFSETFROM:-0600
TZOFFSETTO:-0500
END:DAYLIGHT
BEGIN:STANDARD
DTSTART:20251102T020000Z
TZOFFSETFROM:-0500
TZOFFSETTO:-0600
END:STANDARD
BEGIN:DAYLIGHT
DTSTART:20260308T020000Z
TZOFFSETFROM:-0600
TZOFFSETTO:-0500
END:DAYLIGHT
END:VTIMEZONE
BEGIN:VTIMEZONE
TZID:UTC
BEGIN:STANDARD
DTSTART:20250729T190329Z
TZOFFSETFROM:+0000
TZOFFSETTO:+0000
END:STANDARD
END:VTIMEZONE
BEGIN:VEVENT
UID:113-29
DTSTAMP:20260425T190329Z
SUMMARY:Kick The Turkey In The Balls Bash
LOCATION:
ORGANIZER;CN=Nathan Slinkard:MAILTO:nathan@grinderspizza.com
DTSTART;TZID=America/Chicago:20251127T180000
DTEND;TZID=America/Chicago:20251128T000000
X-ALT-DESC;FMTTYPE=TEXT/HTML:Beau Nasty’s In The Pit &amp;amp\; United Entert
 ainment Present: Kick The Turkey In The Balls Bash Outlaw Cigar &amp;amp\; Bre
 wery 309 E 10th Ave NKC\, MO 64116 Featuring: Pure American Filth STRETCH 
 Working Class Criminals Heater $20 Buy Tickets! 21+ show Thanks to: Curtai
 n Call Records\, Rack Rage Network\, Tattoo Metal Radio\, WXAX\, Hard Rock
 &amp;hellip\;
CATEGORIES:Grinders XRDS Pizza
URL;VALUE=URI:https://grinderspizza.com/mc-events/kick-the-turkey-in-the-ba
 lls-bash/
METHOD:PUBLISH
END:VEVENT
END:VCALENDAR