BEGIN:VCALENDAR
VERSION:2.0
PRODID:spatie/icalendar-generator
DESCRIPTION:Events from Grinders Pizza
X-WR-CALDESC:Events from Grinders Pizza
REFRESH-INTERVAL;VALUE=DURATION:PT1440M
X-PUBLISHED-TTL:PT1440M
BEGIN:VTIMEZONE
TZID:America/Chicago
BEGIN:STANDARD
DTSTART:20251102T020000Z
TZOFFSETFROM:-0500
TZOFFSETTO:-0600
END:STANDARD
BEGIN:DAYLIGHT
DTSTART:20260308T020000Z
TZOFFSETFROM:-0600
TZOFFSETTO:-0500
END:DAYLIGHT
END:VTIMEZONE
BEGIN:VTIMEZONE
TZID:UTC
BEGIN:STANDARD
DTSTART:20250729T204818Z
TZOFFSETFROM:+0000
TZOFFSETTO:+0000
END:STANDARD
END:VTIMEZONE
BEGIN:VEVENT
UID:129-31
DTSTAMP:20260425T204818Z
SUMMARY:Jolly's Holiday Pop-Up Bar
LOCATION:GRINDERS XRDS 417 E 18th st  Kansas City Missouri 64108
ORGANIZER;CN=Nathan Slinkard:MAILTO:nathan@grinderspizza.com
RRULE:FREQ=WEEKLY;UNTIL=20251228T000000Z
DTSTART;TZID=America/Chicago:20251218T180000
DTEND;TZID=America/Chicago:20251220T010000
X-ALT-DESC;FMTTYPE=TEXT/HTML:Celebrate the Holidays @ JOLLY's by Grinders. 
 Our backstage lounge has been transformed into a festive holiday wonderlan
 d\, complete w/ special holiday cocktails\, special events\, twinkling lig
 hts\, &amp;amp\; cheery decor\, all in a cozy winter hideout. Check out more h
 ere! Open FREE to the public. Just walk on down from Grinders - Follow The
  Lights!&amp;hellip\;
CATEGORIES:Grinders XRDS Pizza
URL;VALUE=URI:https://grinderspizza.com/mc-events/jollys-holiday-pop-up-bar
 /?mc_id=129
METHOD:PUBLISH
END:VEVENT
END:VCALENDAR