BEGIN:VCALENDAR
VERSION:2.0
PRODID:spatie/icalendar-generator
DESCRIPTION:Events from Grinders Pizza
X-WR-CALDESC:Events from Grinders Pizza
REFRESH-INTERVAL;VALUE=DURATION:PT1440M
X-PUBLISHED-TTL:PT1440M
BEGIN:VTIMEZONE
TZID:America/Chicago
BEGIN:STANDARD
DTSTART:20251102T020000Z
TZOFFSETFROM:-0500
TZOFFSETTO:-0600
END:STANDARD
BEGIN:DAYLIGHT
DTSTART:20260308T020000Z
TZOFFSETFROM:-0600
TZOFFSETTO:-0500
END:DAYLIGHT
END:VTIMEZONE
BEGIN:VTIMEZONE
TZID:UTC
BEGIN:STANDARD
DTSTART:20250729T222123Z
TZOFFSETFROM:+0000
TZOFFSETTO:+0000
END:STANDARD
END:VTIMEZONE
BEGIN:VEVENT
UID:136-35
DTSTAMP:20260425T222123Z
SUMMARY:Vine Street Tap Takeover - Live Jazz &amp;amp\; Samples
LOCATION:GRINDERS STONEWALL 10240 Pflumm Rd  Lenexa KS 66215
ORGANIZER;CN=Nathan Slinkard:MAILTO:nathan@grinderspizza.com
DTSTART;TZID=America/Chicago:20251219T183000
DTEND;TZID=America/Chicago:20251219T203000
X-ALT-DESC;FMTTYPE=TEXT/HTML:Vine Street Brewery is taking over Grinders St
 onewall and they're brining beer! Join us for and get ample samples of 6 V
 ine Street beers: Hood Saison\, East 71 Cream Ale\, Soul Soothing Sonata S
 our\, One For The Books\, Dubs Belgian Double\, &amp;amp\; Vine on Vine IPA. I
 t wouldn't be Vine Street with out Jazz! Enjoy&amp;hellip\;
CATEGORIES:Grinders Stonewall Pizza
URL;VALUE=URI:https://grinderspizza.com/mc-events/vine-street-tap-takeover-
 live-jazz-samples/
METHOD:PUBLISH
END:VEVENT
END:VCALENDAR