BEGIN:VCALENDAR
VERSION:2.0
PRODID:spatie/icalendar-generator
DESCRIPTION:Events from Grinders Pizza
X-WR-CALDESC:Events from Grinders Pizza
REFRESH-INTERVAL;VALUE=DURATION:PT1440M
X-PUBLISHED-TTL:PT1440M
BEGIN:VTIMEZONE
TZID:America/Chicago
BEGIN:STANDARD
DTSTART:20251102T020000Z
TZOFFSETFROM:-0500
TZOFFSETTO:-0600
END:STANDARD
BEGIN:DAYLIGHT
DTSTART:20260308T020000Z
TZOFFSETFROM:-0600
TZOFFSETTO:-0500
END:DAYLIGHT
END:VTIMEZONE
BEGIN:VTIMEZONE
TZID:UTC
BEGIN:STANDARD
DTSTART:20250728T051045Z
TZOFFSETFROM:+0000
TZOFFSETTO:+0000
END:STANDARD
END:VTIMEZONE
BEGIN:VEVENT
UID:164-45
DTSTAMP:20260424T051045Z
SUMMARY:Malört Happy Hour
LOCATION:GRINDERS XRDS 417 E 18th st  Kansas City Missouri 64108
ORGANIZER;CN=Nathan Slinkard:MAILTO:nathan@grinderspizza.com
DTSTART;TZID=America/Chicago:20260218T180000
DTEND;TZID=America/Chicago:20260218T210000
X-ALT-DESC;FMTTYPE=TEXT/HTML:<p>Have it neat\, in a cocktail\, in a shot sk
 i\, or try your luck with Malört roulette jello shots - it's a great time
  even if you lose!</p>\n
CATEGORIES:Grinders XRDS Pizza
URL;VALUE=URI:https://grinderspizza.com/mc-events/malort-happy-hour/
METHOD:PUBLISH
END:VEVENT
END:VCALENDAR