BEGIN:VCALENDAR
VERSION:2.0
PRODID:spatie/icalendar-generator
DESCRIPTION:Events from Grinders Pizza
X-WR-CALDESC:Events from Grinders Pizza
REFRESH-INTERVAL;VALUE=DURATION:PT1440M
X-PUBLISHED-TTL:PT1440M
BEGIN:VTIMEZONE
TZID:America/Chicago
BEGIN:STANDARD
DTSTART:20251102T020000Z
TZOFFSETFROM:-0500
TZOFFSETTO:-0600
END:STANDARD
BEGIN:DAYLIGHT
DTSTART:20260308T020000Z
TZOFFSETFROM:-0600
TZOFFSETTO:-0500
END:DAYLIGHT
BEGIN:STANDARD
DTSTART:20261101T020000Z
TZOFFSETFROM:-0500
TZOFFSETTO:-0600
END:STANDARD
END:VTIMEZONE
BEGIN:VTIMEZONE
TZID:UTC
BEGIN:STANDARD
DTSTART:20250728T044337Z
TZOFFSETFROM:+0000
TZOFFSETTO:+0000
END:STANDARD
END:VTIMEZONE
BEGIN:VEVENT
UID:263-48
DTSTAMP:20260424T044337Z
SUMMARY:Decades 2026!
LOCATION:GRINDERS KC EVENT VENUE 1826 Locust St  Kansas City MO 64108
ORGANIZER;CN=Nathan Slinkard:MAILTO:nathan@grinderspizza.com
DTSTART;TZID=America/Chicago:20260501T180000
DTEND;TZID=America/Chicago:20260501T230000
X-ALT-DESC;FMTTYPE=TEXT/HTML:<p>Decades 2026 kicks off Grinders season w/ 9
 0's\, 80's\, &amp;amp\; 70's hits by the best local bands in KC</p>\n
CATEGORIES:Grinders Music Venue
URL;VALUE=URI:https://grinderspizza.com/mc-events/decades-2026/
METHOD:PUBLISH
END:VEVENT
END:VCALENDAR