BEGIN:VCALENDAR
VERSION:2.0
PRODID:spatie/icalendar-generator
DESCRIPTION:Events from Grinders Pizza
X-WR-CALDESC:Events from Grinders Pizza
REFRESH-INTERVAL;VALUE=DURATION:PT1440M
X-PUBLISHED-TTL:PT1440M
BEGIN:VTIMEZONE
TZID:America/Chicago
BEGIN:STANDARD
DTSTART:20251102T020000Z
TZOFFSETFROM:-0500
TZOFFSETTO:-0600
END:STANDARD
BEGIN:DAYLIGHT
DTSTART:20260308T020000Z
TZOFFSETFROM:-0600
TZOFFSETTO:-0500
END:DAYLIGHT
END:VTIMEZONE
BEGIN:VTIMEZONE
TZID:UTC
BEGIN:STANDARD
DTSTART:20250728T075830Z
TZOFFSETFROM:+0000
TZOFFSETTO:+0000
END:STANDARD
END:VTIMEZONE
BEGIN:VEVENT
UID:265-49
DTSTAMP:20260424T075830Z
SUMMARY:National Chili Day! Chili Specials
LOCATION:
ORGANIZER;CN=Nathan Slinkard:MAILTO:nathan@grinderspizza.com
DTSTART;TZID=America/Chicago;VALUE=DATE:20260226
DTEND;TZID=America/Chicago;VALUE=DATE:20260227
X-ALT-DESC;FMTTYPE=TEXT/HTML:Celebrate National Chili Day w/ Grinders! Both
  locations have chili bomb specials to fill you up on this delicious food 
 holiday. Grinders XRDS: Chili bomb anything for only $3.99 Grinders Stonew
 all: *Super Chili Bomb* - Chili Bombed Potato Barrels for $8
CATEGORIES:Grinders XRDS Pizza,  Grinders Stonewall Pizza
URL;VALUE=URI:https://grinderspizza.com/mc-events/national-chili-day-chili-
 specials/
METHOD:PUBLISH
END:VEVENT
END:VCALENDAR