BEGIN:VCALENDAR
VERSION:2.0
PRODID:spatie/icalendar-generator
DESCRIPTION:Events from Grinders Pizza
X-WR-CALDESC:Events from Grinders Pizza
REFRESH-INTERVAL;VALUE=DURATION:PT1440M
X-PUBLISHED-TTL:PT1440M
BEGIN:VTIMEZONE
TZID:America/Chicago
BEGIN:DAYLIGHT
DTSTART:20260308T020000Z
TZOFFSETFROM:-0600
TZOFFSETTO:-0500
END:DAYLIGHT
BEGIN:STANDARD
DTSTART:20261101T020000Z
TZOFFSETFROM:-0500
TZOFFSETTO:-0600
END:STANDARD
BEGIN:DAYLIGHT
DTSTART:20270314T020000Z
TZOFFSETFROM:-0600
TZOFFSETTO:-0500
END:DAYLIGHT
END:VTIMEZONE
BEGIN:VTIMEZONE
TZID:UTC
BEGIN:STANDARD
DTSTART:20250727T210331Z
TZOFFSETFROM:+0000
TZOFFSETTO:+0000
END:STANDARD
END:VTIMEZONE
BEGIN:VEVENT
UID:304-61
DTSTAMP:20260423T210331Z
SUMMARY:Mike \"Needles\" - Live Music On The Patio
LOCATION:GRINDERS STONEWALL 10240 Pflumm Rd  Lenexa KS 66215
ORGANIZER;CN=Nathan Slinkard:MAILTO:nathan@grinderspizza.com
RRULE:FREQ=WEEKLY;UNTIL=20261001T000000Z
DTSTART;TZID=America/Chicago:20260910T170000
DTEND;TZID=America/Chicago:20260910T200000
X-ALT-DESC;FMTTYPE=TEXT/HTML:<p>Mike \"Needles\" Needleman performs on our 
 Patio every Thursday - FREE event</p>\n
CATEGORIES:Grinders Stonewall Pizza
URL;VALUE=URI:https://grinderspizza.com/mc-events/mike-needles-live-music-o
 n-the-patio/?mc_id=304
METHOD:PUBLISH
END:VEVENT
END:VCALENDAR