BEGIN:VCALENDAR
VERSION:2.0
PRODID:spatie/icalendar-generator
DESCRIPTION:Events from Grinders Pizza
X-WR-CALDESC:Events from Grinders Pizza
REFRESH-INTERVAL;VALUE=DURATION:PT1440M
X-PUBLISHED-TTL:PT1440M
BEGIN:VTIMEZONE
TZID:America/Chicago
BEGIN:STANDARD
DTSTART:20251102T020000Z
TZOFFSETFROM:-0500
TZOFFSETTO:-0600
END:STANDARD
BEGIN:DAYLIGHT
DTSTART:20260308T020000Z
TZOFFSETFROM:-0600
TZOFFSETTO:-0500
END:DAYLIGHT
END:VTIMEZONE
BEGIN:VTIMEZONE
TZID:UTC
BEGIN:STANDARD
DTSTART:20250728T121632Z
TZOFFSETFROM:+0000
TZOFFSETTO:+0000
END:STANDARD
END:VTIMEZONE
BEGIN:VEVENT
UID:384-65
DTSTAMP:20260424T121632Z
SUMMARY:Stratgazer Karaoke - Every Thursday
LOCATION:
ORGANIZER;CN=Nathan Slinkard:MAILTO:nathan@grinderspizza.com
RRULE:FREQ=WEEKLY;UNTIL=20260501T000000Z
DTSTART;TZID=America/Chicago:20260319T180000
DTEND;TZID=America/Chicago:20260319T210000
X-ALT-DESC;FMTTYPE=TEXT/HTML:<p>Join us every Thursday for Stratgazer Karao
 ke in The Lab (behind Grinders - west of the stage)</p>\n
CATEGORIES:Grinders XRDS Pizza
URL;VALUE=URI:https://grinderspizza.com/mc-events/stratgazer-karaoke-every-
 thursday/?mc_id=384
METHOD:PUBLISH
END:VEVENT
END:VCALENDAR