BEGIN:VCALENDAR
VERSION:2.0
PRODID:spatie/icalendar-generator
DESCRIPTION:Events from Grinders Pizza
X-WR-CALDESC:Events from Grinders Pizza
REFRESH-INTERVAL;VALUE=DURATION:PT1440M
X-PUBLISHED-TTL:PT1440M
BEGIN:VTIMEZONE
TZID:America/Chicago
BEGIN:STANDARD
DTSTART:20251102T020000Z
TZOFFSETFROM:-0500
TZOFFSETTO:-0600
END:STANDARD
BEGIN:DAYLIGHT
DTSTART:20260308T020000Z
TZOFFSETFROM:-0600
TZOFFSETTO:-0500
END:DAYLIGHT
BEGIN:STANDARD
DTSTART:20261101T020000Z
TZOFFSETFROM:-0500
TZOFFSETTO:-0600
END:STANDARD
END:VTIMEZONE
BEGIN:VTIMEZONE
TZID:UTC
BEGIN:STANDARD
DTSTART:20250727T224557Z
TZOFFSETFROM:+0000
TZOFFSETTO:+0000
END:STANDARD
END:VTIMEZONE
BEGIN:VEVENT
UID:395-63
DTSTAMP:20260423T224557Z
SUMMARY:Stratgazer Karaoke - Every Friday
LOCATION:GRINDERS XRDS 417 E 18th st  Kansas City Missouri 64108
ORGANIZER;CN=Nathan Slinkard:MAILTO:nathan@grinderspizza.com
RRULE:FREQ=WEEKLY;UNTIL=20261002T000000Z
DTSTART;TZID=America/Chicago:20260508T203000
DTEND;TZID=America/Chicago:20260508T223000
X-ALT-DESC;FMTTYPE=TEXT/HTML:Join us every Friday for Stratgazer Karaoke on
  the Grinders patio \"Anything Goes - No Holds Barred Karaoke\" Sing your 
 little hearts out - starting at 8:30pm on Fridays Free admission
CATEGORIES:Grinders XRDS Pizza
URL;VALUE=URI:https://grinderspizza.com/mc-events/stratgazer-karaoke-every-
 friday/?mc_id=395
METHOD:PUBLISH
END:VEVENT
END:VCALENDAR