BEGIN:VCALENDAR
VERSION:2.0
PRODID:spatie/icalendar-generator
DESCRIPTION:Events from Grinders Pizza
X-WR-CALDESC:Events from Grinders Pizza
REFRESH-INTERVAL;VALUE=DURATION:PT1440M
X-PUBLISHED-TTL:PT1440M
BEGIN:VTIMEZONE
TZID:America/Chicago
BEGIN:STANDARD
DTSTART:20241103T020000Z
TZOFFSETFROM:-0500
TZOFFSETTO:-0600
END:STANDARD
BEGIN:DAYLIGHT
DTSTART:20250309T020000Z
TZOFFSETFROM:-0600
TZOFFSETTO:-0500
END:DAYLIGHT
BEGIN:STANDARD
DTSTART:20251102T020000Z
TZOFFSETFROM:-0500
TZOFFSETTO:-0600
END:STANDARD
END:VTIMEZONE
BEGIN:VTIMEZONE
TZID:UTC
BEGIN:STANDARD
DTSTART:20250727T155055Z
TZOFFSETFROM:+0000
TZOFFSETTO:+0000
END:STANDARD
END:VTIMEZONE
BEGIN:VEVENT
UID:84-4
DTSTAMP:20260423T155055Z
SUMMARY:311\, Badflower\, &amp;amp\; Sitting on Saturn - Grinders Main Stage
LOCATION:GRINDERS KC EVENT VENUE 1826 Locust St  Kansas City MO 64108
ORGANIZER;CN=Nathan Slinkard:MAILTO:nathan@grinderspizza.com
DTSTART;TZID=America/Chicago:20250711T180000
DTEND;TZID=America/Chicago:20250711T230000
X-ALT-DESC;FMTTYPE=TEXT/HTML:311 - Unity Tour 2025 w/ Badflower &amp;amp\; Sitt
 ing on Saturn Friday\, July 11th 2025 Doors 6pm / Show 7pm All-ages show N
 ote: Grinders Pizza will be on a limited event menu\, starting a few hours
  before doors
CATEGORIES:Grinders Music Venue
URL;VALUE=URI:https://grinderspizza.com/mc-events/311-badflower-sitting-on-
 saturn-grinders-main-stage/
METHOD:PUBLISH
END:VEVENT
END:VCALENDAR