BEGIN:VCALENDAR
VERSION:2.0
PRODID:spatie/icalendar-generator
DESCRIPTION:Events from Grinders Pizza
X-WR-CALDESC:Events from Grinders Pizza
REFRESH-INTERVAL;VALUE=DURATION:PT1440M
X-PUBLISHED-TTL:PT1440M
BEGIN:VTIMEZONE
TZID:America/Chicago
BEGIN:DAYLIGHT
DTSTART:20250309T020000Z
TZOFFSETFROM:-0600
TZOFFSETTO:-0500
END:DAYLIGHT
BEGIN:STANDARD
DTSTART:20251102T020000Z
TZOFFSETFROM:-0500
TZOFFSETTO:-0600
END:STANDARD
END:VTIMEZONE
BEGIN:VTIMEZONE
TZID:UTC
BEGIN:STANDARD
DTSTART:20250729T204932Z
TZOFFSETFROM:+0000
TZOFFSETTO:+0000
END:STANDARD
END:VTIMEZONE
BEGIN:VEVENT
UID:90-9
DTSTAMP:20260425T204932Z
SUMMARY:Toad The Wet Sprocket\, Semisonic\, &amp;amp\; Sixpence None The Richer
  - Grinders Main Stage
LOCATION:GRINDERS KC EVENT VENUE 1826 Locust St  Kansas City MO 64108
ORGANIZER;CN=Nathan Slinkard:MAILTO:nathan@grinderspizza.com
DTSTART;TZID=America/Chicago:20250802T180000
DTEND;TZID=America/Chicago:20250802T230000
X-ALT-DESC;FMTTYPE=TEXT/HTML:Toad The Wet Sprocket - Good Intentions Tour w
 / Semisonic &amp;amp\; Sixpence None The Richer Friday\, July 11th 2025 Doors 
 6pm / Show 7pm All-ages show Note: Grinders Pizza will be on a limited eve
 nt menu\, starting a few hours before doors &amp;nbsp\;
CATEGORIES:Grinders Music Venue
URL;VALUE=URI:https://grinderspizza.com/mc-events/toad-the-wet-sprocket-sem
 isonic-sixpence-none-the-richer-grinders-main-stage/
METHOD:PUBLISH
END:VEVENT
END:VCALENDAR