BEGIN:VCALENDAR
VERSION:2.0
PRODID:spatie/icalendar-generator
DESCRIPTION:Events from Grinders Pizza
X-WR-CALDESC:Events from Grinders Pizza
REFRESH-INTERVAL;VALUE=DURATION:PT1440M
X-PUBLISHED-TTL:PT1440M
BEGIN:VTIMEZONE
TZID:America/Chicago
BEGIN:DAYLIGHT
DTSTART:20250309T020000Z
TZOFFSETFROM:-0600
TZOFFSETTO:-0500
END:DAYLIGHT
BEGIN:STANDARD
DTSTART:20251102T020000Z
TZOFFSETFROM:-0500
TZOFFSETTO:-0600
END:STANDARD
BEGIN:DAYLIGHT
DTSTART:20260308T020000Z
TZOFFSETFROM:-0600
TZOFFSETTO:-0500
END:DAYLIGHT
END:VTIMEZONE
BEGIN:VTIMEZONE
TZID:UTC
BEGIN:STANDARD
DTSTART:20250729T155419Z
TZOFFSETFROM:+0000
TZOFFSETTO:+0000
END:STANDARD
END:VTIMEZONE
BEGIN:VEVENT
UID:94-13
DTSTAMP:20260425T155419Z
SUMMARY:THAT MEXICAN OT\, DRODI\, &amp;amp\; RNB.FOEMOB - MOVED TO THE UPTOWN T
 HEATER
LOCATION:GRINDERS KC EVENT VENUE 1826 Locust St  Kansas City MO 64108
ORGANIZER;CN=Nathan Slinkard:MAILTO:nathan@grinderspizza.com
DTSTART;TZID=America/Chicago:20251001T190000
DTEND;TZID=America/Chicago:20251001T200000
X-ALT-DESC;FMTTYPE=TEXT/HTML:THIS CONCERT HAS BEEN MOVED TO THE UPTOWN THEA
 TER 3700 Broadway Kansas City\, MO 64111 All originally purchased tickets 
 will be honored.  Please hold on to your tickets and join OT on the same 
 date\, at a new venue.  THAT MEXICAN OT - Recess Tour w/ DRODI &amp;amp\; RNB
 .FOEMOB Wednesday October 1st\, 2025 Doors 7pm&amp;hellip\;
CATEGORIES:Grinders XRDS Pizza
URL;VALUE=URI:https://grinderspizza.com/mc-events/that-mexican-ot-drodi-rnb
 -foemob-moved-to-the-uptown-theater/
METHOD:PUBLISH
END:VEVENT
END:VCALENDAR