BEGIN:VCALENDAR
VERSION:2.0
PRODID:spatie/icalendar-generator
DESCRIPTION:Events from Grinders Pizza
X-WR-CALDESC:Events from Grinders Pizza
REFRESH-INTERVAL;VALUE=DURATION:PT1440M
X-PUBLISHED-TTL:PT1440M
BEGIN:VTIMEZONE
TZID:America/Chicago
BEGIN:DAYLIGHT
DTSTART:20250309T020000Z
TZOFFSETFROM:-0600
TZOFFSETTO:-0500
END:DAYLIGHT
BEGIN:STANDARD
DTSTART:20251102T020000Z
TZOFFSETFROM:-0500
TZOFFSETTO:-0600
END:STANDARD
BEGIN:DAYLIGHT
DTSTART:20260308T020000Z
TZOFFSETFROM:-0600
TZOFFSETTO:-0500
END:DAYLIGHT
END:VTIMEZONE
BEGIN:VTIMEZONE
TZID:UTC
BEGIN:STANDARD
DTSTART:20250729T154303Z
TZOFFSETFROM:+0000
TZOFFSETTO:+0000
END:STANDARD
END:VTIMEZONE
BEGIN:VEVENT
UID:97-16
DTSTAMP:20260425T154303Z
SUMMARY:DJO &amp;amp\; Post Animal - Grinders Main Stage
LOCATION:GRINDERS KC EVENT VENUE 1826 Locust St  Kansas City MO 64108
ORGANIZER;CN=Nathan Slinkard:MAILTO:nathan@grinderspizza.com
DTSTART;TZID=America/Chicago:20251007T190000
DTEND;TZID=America/Chicago:20251007T230000
X-ALT-DESC;FMTTYPE=TEXT/HTML:DJO - Another Bite Tour w/ Post Animal Tuesday
 \, October 7th 2025 Doors 7pm / Show 8pm All-ages show Note: Grinders Pizz
 a will be on a limited event menu\, starting a few hours before doors
CATEGORIES:Grinders Music Venue
URL;VALUE=URI:https://grinderspizza.com/mc-events/djo-post-animal-grinders-
 main-stage/
METHOD:PUBLISH
END:VEVENT
END:VCALENDAR