BEGIN:VCALENDAR
VERSION:2.0
PRODID:spatie/icalendar-generator
DESCRIPTION:Events from Grinders Pizza
X-WR-CALDESC:Events from Grinders Pizza
REFRESH-INTERVAL;VALUE=DURATION:PT1440M
X-PUBLISHED-TTL:PT1440M
BEGIN:VTIMEZONE
TZID:America/Chicago
BEGIN:DAYLIGHT
DTSTART:20250309T020000Z
TZOFFSETFROM:-0600
TZOFFSETTO:-0500
END:DAYLIGHT
BEGIN:STANDARD
DTSTART:20251102T020000Z
TZOFFSETFROM:-0500
TZOFFSETTO:-0600
END:STANDARD
BEGIN:DAYLIGHT
DTSTART:20260308T020000Z
TZOFFSETFROM:-0600
TZOFFSETTO:-0500
END:DAYLIGHT
END:VTIMEZONE
BEGIN:VTIMEZONE
TZID:UTC
BEGIN:STANDARD
DTSTART:20250729T191417Z
TZOFFSETFROM:+0000
TZOFFSETTO:+0000
END:STANDARD
END:VTIMEZONE
BEGIN:VEVENT
UID:112-28
DTSTAMP:20260425T191417Z
SUMMARY:Taste Beering w/ Fields &amp;amp\; Ivy Brewery
LOCATION:GRINDERS STONEWALL 10240 Pflumm Rd  Lenexa KS 66215
ORGANIZER;CN=Nathan Slinkard:MAILTO:nathan@grinderspizza.com
DTSTART;TZID=America/Chicago:20251029T180000
DTEND;TZID=America/Chicago:20251029T210000
X-ALT-DESC;FMTTYPE=TEXT/HTML:<p>5 Courses\, 6 Beers\, for only $50!</p>\n
CATEGORIES:Grinders Stonewall Pizza
URL;VALUE=URI:https://grinderspizza.com/mc-events/taste-beering-w-fields-iv
 y-brewery/
METHOD:PUBLISH
END:VEVENT
END:VCALENDAR