BEGIN:VCALENDAR
VERSION:2.0
PRODID:spatie/icalendar-generator
DESCRIPTION:Events from Grinders Pizza
X-WR-CALDESC:Events from Grinders Pizza
REFRESH-INTERVAL;VALUE=DURATION:PT1440M
X-PUBLISHED-TTL:PT1440M
BEGIN:VTIMEZONE
TZID:America/Chicago
BEGIN:STANDARD
DTSTART:20251102T020000Z
TZOFFSETFROM:-0500
TZOFFSETTO:-0600
END:STANDARD
BEGIN:DAYLIGHT
DTSTART:20260308T020000Z
TZOFFSETFROM:-0600
TZOFFSETTO:-0500
END:DAYLIGHT
END:VTIMEZONE
BEGIN:VTIMEZONE
TZID:UTC
BEGIN:STANDARD
DTSTART:20250729T220429Z
TZOFFSETFROM:+0000
TZOFFSETTO:+0000
END:STANDARD
END:VTIMEZONE
BEGIN:VEVENT
UID:122-34
DTSTAMP:20260425T220429Z
SUMMARY:Fireball Happy Hour Special Event - Ample Samples!
LOCATION:GRINDERS XRDS 417 E 18th st  Kansas City Missouri 64108
ORGANIZER;CN=Nathan Slinkard:MAILTO:nathan@grinderspizza.com
DTSTART;TZID=America/Chicago:20251212T183000
DTEND;TZID=America/Chicago:20251212T203000
X-ALT-DESC;FMTTYPE=TEXT/HTML:Our friends at Fireball are stopping by on 12/
 12 for a special happy hour event. They'll have samples\, special drink fe
 atures\, &amp;amp\; a swag giveaway! You won't wanna miss this special event..
 . it's gonna be fire! Come join us &amp;amp\; Fireball on Friday Dec 12 6:30pm
  - 8:30pm &amp;nbsp\;
CATEGORIES:Grinders XRDS Pizza
URL;VALUE=URI:https://grinderspizza.com/mc-events/fireball-happy-hour-speci
 al-event-ample-samples/
METHOD:PUBLISH
END:VEVENT
END:VCALENDAR