BEGIN:VCALENDAR
VERSION:2.0
PRODID:spatie/icalendar-generator
DESCRIPTION:Events from Grinders Pizza
X-WR-CALDESC:Events from Grinders Pizza
REFRESH-INTERVAL;VALUE=DURATION:PT1440M
X-PUBLISHED-TTL:PT1440M
BEGIN:VTIMEZONE
TZID:America/Chicago
BEGIN:STANDARD
DTSTART:20251102T020000Z
TZOFFSETFROM:-0500
TZOFFSETTO:-0600
END:STANDARD
BEGIN:DAYLIGHT
DTSTART:20260308T020000Z
TZOFFSETFROM:-0600
TZOFFSETTO:-0500
END:DAYLIGHT
END:VTIMEZONE
BEGIN:VTIMEZONE
TZID:UTC
BEGIN:STANDARD
DTSTART:20250729T222316Z
TZOFFSETFROM:+0000
TZOFFSETTO:+0000
END:STANDARD
END:VTIMEZONE
BEGIN:VEVENT
UID:124-33
DTSTAMP:20260425T222316Z
SUMMARY:Tito's Ugly Xmas Sweater Party @ Jolly's
LOCATION:GRINDERS XRDS 417 E 18th st  Kansas City Missouri 64108
ORGANIZER;CN=Nathan Slinkard:MAILTO:nathan@grinderspizza.com
DTSTART;TZID=America/Chicago:20251218T180000
DTEND;TZID=America/Chicago:20251218T220000
X-ALT-DESC;FMTTYPE=TEXT/HTML:It's not the holiday season without an ugly sw
 eater party! Our friends at Tito's are joining us during our annual ugly s
 weater party at Jolly's Pop-up Bar. They're concocting special Tito's craf
 ted cocktail to join our Jolly's Cocktail Menu &amp;amp\; will be providing sa
 mples as well! Enjoy your tasty beverages while you play Music Bingo&amp;helli
 p\;
CATEGORIES:Grinders XRDS Pizza
URL;VALUE=URI:https://grinderspizza.com/mc-events/titos-ugly-xmas-sweater-p
 arty-jollys/
METHOD:PUBLISH
END:VEVENT
END:VCALENDAR