BEGIN:VCALENDAR
VERSION:2.0
PRODID:spatie/icalendar-generator
DESCRIPTION:Events from Grinders Pizza
X-WR-CALDESC:Events from Grinders Pizza
REFRESH-INTERVAL;VALUE=DURATION:PT1440M
X-PUBLISHED-TTL:PT1440M
BEGIN:VTIMEZONE
TZID:America/Chicago
BEGIN:STANDARD
DTSTART:20251102T020000Z
TZOFFSETFROM:-0500
TZOFFSETTO:-0600
END:STANDARD
BEGIN:DAYLIGHT
DTSTART:20260308T020000Z
TZOFFSETFROM:-0600
TZOFFSETTO:-0500
END:DAYLIGHT
END:VTIMEZONE
BEGIN:VTIMEZONE
TZID:UTC
BEGIN:STANDARD
DTSTART:20250730T011337Z
TZOFFSETFROM:+0000
TZOFFSETTO:+0000
END:STANDARD
END:VTIMEZONE
BEGIN:VEVENT
UID:135-36
DTSTAMP:20260426T011337Z
SUMMARY:Ornament Painting Party - Free!
LOCATION:GRINDERS STONEWALL 10240 Pflumm Rd  Lenexa KS 66215
ORGANIZER;CN=Nathan Slinkard:MAILTO:nathan@grinderspizza.com
DTSTART;TZID=America/Chicago;VALUE=DATE:20251220
DTEND;TZID=America/Chicago;VALUE=DATE:20251221
X-ALT-DESC;FMTTYPE=TEXT/HTML:Come in to Grinders Stonewall for a FREE ornam
 ent painting party. Fill your tree and your belly at this family friendly 
 holiday fest. All supplies and ornaments are provided\, just bring your sk
 ills and appetites. Ornaments are available from open and while supplies l
 ast. December 20th 11am - while supplies last. Don't forget Saturday is&amp;he
 llip\;
CATEGORIES:Grinders Stonewall Pizza
URL;VALUE=URI:https://grinderspizza.com/mc-events/ornament-painting-party-f
 ree/
METHOD:PUBLISH
END:VEVENT
END:VCALENDAR