BEGIN:VCALENDAR
VERSION:2.0
PRODID:spatie/icalendar-generator
DESCRIPTION:Events from Grinders Pizza
X-WR-CALDESC:Events from Grinders Pizza
REFRESH-INTERVAL;VALUE=DURATION:PT1440M
X-PUBLISHED-TTL:PT1440M
BEGIN:VTIMEZONE
TZID:America/Chicago
BEGIN:STANDARD
DTSTART:20251102T020000Z
TZOFFSETFROM:-0500
TZOFFSETTO:-0600
END:STANDARD
BEGIN:DAYLIGHT
DTSTART:20260308T020000Z
TZOFFSETFROM:-0600
TZOFFSETTO:-0500
END:DAYLIGHT
END:VTIMEZONE
BEGIN:VTIMEZONE
TZID:UTC
BEGIN:STANDARD
DTSTART:20250730T011337Z
TZOFFSETFROM:+0000
TZOFFSETTO:+0000
END:STANDARD
END:VTIMEZONE
BEGIN:VEVENT
UID:262-46
DTSTAMP:20260426T011337Z
SUMMARY:National Pizza Day
LOCATION:GRINDERS STONEWALL 10240 Pflumm Rd  Lenexa KS 66215
ORGANIZER;CN=Nathan Slinkard:MAILTO:nathan@grinderspizza.com
DTSTART;TZID=America/Chicago;VALUE=DATE:20260209
DTEND;TZID=America/Chicago;VALUE=DATE:20260210
X-ALT-DESC;FMTTYPE=TEXT/HTML:<p>This National Pizza Day\, Grinders Stonewal
 l has ALL the pizza specials to satisfy your cravings everything pizza.</p>\n
CATEGORIES:Grinders Stonewall Pizza
URL;VALUE=URI:https://grinderspizza.com/mc-events/national-pizza-day/
METHOD:PUBLISH
END:VEVENT
END:VCALENDAR