BEGIN:VCALENDAR
VERSION:2.0
PRODID:spatie/icalendar-generator
DESCRIPTION:Events from Grinders Pizza
X-WR-CALDESC:Events from Grinders Pizza
REFRESH-INTERVAL;VALUE=DURATION:PT1440M
X-PUBLISHED-TTL:PT1440M
BEGIN:VTIMEZONE
TZID:America/Chicago
BEGIN:STANDARD
DTSTART:20251102T020000Z
TZOFFSETFROM:-0500
TZOFFSETTO:-0600
END:STANDARD
BEGIN:DAYLIGHT
DTSTART:20260308T020000Z
TZOFFSETFROM:-0600
TZOFFSETTO:-0500
END:DAYLIGHT
END:VTIMEZONE
BEGIN:VTIMEZONE
TZID:UTC
BEGIN:STANDARD
DTSTART:20250728T123728Z
TZOFFSETFROM:+0000
TZOFFSETTO:+0000
END:STANDARD
END:VTIMEZONE
BEGIN:VEVENT
UID:266-50
DTSTAMP:20260424T123728Z
SUMMARY:St Patrick's Day
LOCATION:GRINDERS XRDS 417 E 18th st  Kansas City Missouri 64108
ORGANIZER;CN=Nathan Slinkard:MAILTO:nathan@grinderspizza.com
DTSTART;TZID=America/Chicago;VALUE=DATE:20260317
DTEND;TZID=America/Chicago;VALUE=DATE:20260318
X-ALT-DESC;FMTTYPE=TEXT/HTML:Come to the gaff for a craic\, KC &amp;amp\; Celeb
 rate the luck of the Irish at Grinders on Saint Patrick's Day. We have foo
 d and drink specials better than a pot of gold at the end of a rainbow! $6
  Guinness Drafts $5 Paddy's Irish Whiskey Shots $9 Irish Car Bombs Irish W
 affle Nachos Reuben&amp;hellip\;
CATEGORIES:Grinders XRDS Pizza
URL;VALUE=URI:https://grinderspizza.com/mc-events/st-patricks-day/
METHOD:PUBLISH
END:VEVENT
END:VCALENDAR