BEGIN:VCALENDAR
VERSION:2.0
PRODID:spatie/icalendar-generator
DESCRIPTION:Events from Grinders Pizza
X-WR-CALDESC:Events from Grinders Pizza
REFRESH-INTERVAL;VALUE=DURATION:PT1440M
X-PUBLISHED-TTL:PT1440M
BEGIN:VTIMEZONE
TZID:America/Chicago
BEGIN:STANDARD
DTSTART:20251102T020000Z
TZOFFSETFROM:-0500
TZOFFSETTO:-0600
END:STANDARD
BEGIN:DAYLIGHT
DTSTART:20260308T020000Z
TZOFFSETFROM:-0600
TZOFFSETTO:-0500
END:DAYLIGHT
END:VTIMEZONE
BEGIN:VTIMEZONE
TZID:UTC
BEGIN:STANDARD
DTSTART:20250728T201106Z
TZOFFSETFROM:+0000
TZOFFSETTO:+0000
END:STANDARD
END:VTIMEZONE
BEGIN:VEVENT
UID:267-51
DTSTAMP:20260424T201106Z
SUMMARY:Drag Brunch w/ Lucy Goose
LOCATION:GRINDERS XRDS 417 E 18th st  Kansas City Missouri 64108
ORGANIZER;CN=Nathan Slinkard:MAILTO:nathan@grinderspizza.com
DTSTART;TZID=America/Chicago:20260329T120000
DTEND;TZID=America/Chicago:20260329T140000
X-ALT-DESC;FMTTYPE=TEXT/HTML:&amp;nbsp\; Lucy Goosey is back! This time she's b
 ringing friends. Enjoy brunch (included w/ ticket)\, cocktails\, &amp;amp\; en
 dless interactive entertainment! Host: Lucy Goosey w/ Guests: Tina HC\, La
 mbyy Boots\, Pony Ramone\, Karmella Uchawi Noon - 2pm $20 - Tickets availa
 ble @ Grinders or on Eventbrite (includes fees).
CATEGORIES:Grinders XRDS Pizza
URL;VALUE=URI:https://grinderspizza.com/mc-events/drag-brunch-w-lucy-goose/
METHOD:PUBLISH
END:VEVENT
END:VCALENDAR