BEGIN:VCALENDAR
VERSION:2.0
PRODID:spatie/icalendar-generator
DESCRIPTION:Events from Grinders Pizza
X-WR-CALDESC:Events from Grinders Pizza
REFRESH-INTERVAL;VALUE=DURATION:PT1440M
X-PUBLISHED-TTL:PT1440M
BEGIN:VTIMEZONE
TZID:America/Chicago
BEGIN:STANDARD
DTSTART:20241103T020000Z
TZOFFSETFROM:-0500
TZOFFSETTO:-0600
END:STANDARD
BEGIN:DAYLIGHT
DTSTART:20250309T020000Z
TZOFFSETFROM:-0600
TZOFFSETTO:-0500
END:DAYLIGHT
BEGIN:STANDARD
DTSTART:20251102T020000Z
TZOFFSETFROM:-0500
TZOFFSETTO:-0600
END:STANDARD
END:VTIMEZONE
BEGIN:VTIMEZONE
TZID:UTC
BEGIN:STANDARD
DTSTART:20250729T154746Z
TZOFFSETFROM:+0000
TZOFFSETTO:+0000
END:STANDARD
END:VTIMEZONE
BEGIN:VEVENT
UID:87-6
DTSTAMP:20260425T154746Z
SUMMARY:St. Paul &amp;amp\; The Broken Bones + The Wood Brothers - Grinders Mai
 n Stage
LOCATION:GRINDERS KC EVENT VENUE 1826 Locust St  Kansas City MO 64108
ORGANIZER;CN=Nathan Slinkard:MAILTO:nathan@grinderspizza.com
DTSTART;TZID=America/Chicago:20250716T183000
DTEND;TZID=America/Chicago:20250716T230000
X-ALT-DESC;FMTTYPE=TEXT/HTML:St. Paul &amp;amp\; The Broken Bones + The Wood Br
 others w/ Yasmin Williams Wednesday\, July 16\, 2025 Doors 6pm / Show 6:30
 pm All-ages show Note: Grinders Pizza will be on a limited event menu\, st
 arting a few hours before doors
CATEGORIES:Grinders Music Venue
URL;VALUE=URI:https://grinderspizza.com/mc-events/st-paul-the-broken-bones-
 the-wood-brothers-grinders-main-stage/
METHOD:PUBLISH
END:VEVENT
END:VCALENDAR